Workbook

Sheet Impact_Rates
A1: Metric | B1: Type (Flow/Stock) | C1: Scope | D1: Base year | E1: Annual total (input) | F1: Unit | G1: Source URL | H1: Avoidable % (scenario) | I1: Notes | J1: Per month | K1: Per week | L1: Per day | M1: Per hour | N1: Per minute | O1: Avoidable / month | P1: Avoidable / week | Q1: Avoidable / day | R1: Avoidable / hour | S1: Avoidable / minute | T1: Target Avoidable % (Year 30) | U1: Avoidable per Day @ Year 30
A2: All-cause deaths (global) | B2: Flow | C2: World | D2: 2025 | E2: 63000000 | F2: deaths | G2: https://ourworldindata.org/births-and-deaths | H2: 0.08 | I2: Uniform distribution assumed for per-time rates. Scenario target = avoidable share by Year 30 (systems reform + education + governance). | J2: =IF($B2="Flow",IF($E2="", "", $E2/Controls!$B$4),"") | K2: =IF($B2="Flow",IF($E2="", "", $E2/Controls!$B$3),"") | L2: =IF($B2="Flow",IF($E2="", "", $E2/Controls!$B$2),"") | M2: =IF($B2="Flow",IF($E2="", "", $E2/(Controls!$B$2*Controls!$B$5)),"") | N2: =IF($B2="Flow",IF($E2="", "", $E2/(Controls!$B$2*Controls!$B$5*Controls!$B$6)),"") | O2: =IF($B2="Flow",IF($E2="", "", ($E2*$H2)/Controls!$B$4),"") | P2: =IF($B2="Flow",IF($E2="", "", ($E2*$H2)/Controls!$B$3),"") | Q2: =IF($B2="Flow",IF($E2="", "", ($E2*$H2)/Controls!$B$2),"") | R2: =IF($B2="Flow",IF($E2="", "", ($E2*$H2)/(Controls!$B$2*Controls!$B$5)),"") | S2: =IF($B2="Flow",IF($E2="", "", ($E2*$H2)/(Controls!$B$2*Controls!$B$5*Controls!$B$6)),"") | T2: 0.08 | U2: =IF(E2="", "", E2*T2/365)
A3: Suicide deaths (global) | B3: Flow | C3: World | D3: 2023 | E3: 720000 | F3: deaths | G3: https://www.who.int/news-room/fact-sheets/detail/suicide | H3: 0.3 | I3: WHO says >720,000 per year; use latest estimate you prefer. Scenario target = avoidable share by Year 30 (systems reform + education + governance). | J3: =IF($B3="Flow",IF($E3="", "", $E3/Controls!$B$4),"") | K3: =IF($B3="Flow",IF($E3="", "", $E3/Controls!$B$3),"") | L3: =IF($B3="Flow",IF($E3="", "", $E3/Controls!$B$2),"") | M3: =IF($B3="Flow",IF($E3="", "", $E3/(Controls!$B$2*Controls!$B$5)),"") | N3: =IF($B3="Flow",IF($E3="", "", $E3/(Controls!$B$2*Controls!$B$5*Controls!$B$6)),"") | O3: =IF($B3="Flow",IF($E3="", "", ($E3*$H3)/Controls!$B$4),"") | P3: =IF($B3="Flow",IF($E3="", "", ($E3*$H3)/Controls!$B$3),"") | Q3: =IF($B3="Flow",IF($E3="", "", ($E3*$H3)/Controls!$B$2),"") | R3: =IF($B3="Flow",IF($E3="", "", ($E3*$H3)/(Controls!$B$2*Controls!$B$5)),"") | S3: =IF($B3="Flow",IF($E3="", "", ($E3*$H3)/(Controls!$B$2*Controls!$B$5*Controls!$B$6)),"") | T3: 0.3 | U3: =IF(E3="", "", E3*T3/365)
A4: Intentional homicide victims (global) | B4: Flow | C4: World | D4: 2021 | E4: 458000 | F4: deaths | G4: https://www.unodc.org/documents/data-and-analysis/gsh/2023/GSH23_ExSum.pdf | H4: 0.25 | I4: UNODC estimate; equals ~52 victims per hour. Scenario target = avoidable share by Year 30 (systems reform + education + governance). | J4: =IF($B4="Flow",IF($E4="", "", $E4/Controls!$B$4),"") | K4: =IF($B4="Flow",IF($E4="", "", $E4/Controls!$B$3),"") | L4: =IF($B4="Flow",IF($E4="", "", $E4/Controls!$B$2),"") | M4: =IF($B4="Flow",IF($E4="", "", $E4/(Controls!$B$2*Controls!$B$5)),"") | N4: =IF($B4="Flow",IF($E4="", "", $E4/(Controls!$B$2*Controls!$B$5*Controls!$B$6)),"") | O4: =IF($B4="Flow",IF($E4="", "", ($E4*$H4)/Controls!$B$4),"") | P4: =IF($B4="Flow",IF($E4="", "", ($E4*$H4)/Controls!$B$3),"") | Q4: =IF($B4="Flow",IF($E4="", "", ($E4*$H4)/Controls!$B$2),"") | R4: =IF($B4="Flow",IF($E4="", "", ($E4*$H4)/(Controls!$B$2*Controls!$B$5)),"") | S4: =IF($B4="Flow",IF($E4="", "", ($E4*$H4)/(Controls!$B$2*Controls!$B$5*Controls!$B$6)),"") | T4: 0.25 | U4: =IF(E4="", "", E4*T4/365)
A5: Road traffic deaths (global) | B5: Flow | C5: World | D5: 2023 | E5: 1190000 | F5: deaths | G5: https://www.who.int/publications/b/68866 | H5: 0.35 | I5: WHO global status report on road safety 2023. Scenario target = avoidable share by Year 30 (systems reform + education + governance). | J5: =IF($B5="Flow",IF($E5="", "", $E5/Controls!$B$4),"") | K5: =IF($B5="Flow",IF($E5="", "", $E5/Controls!$B$3),"") | L5: =IF($B5="Flow",IF($E5="", "", $E5/Controls!$B$2),"") | M5: =IF($B5="Flow",IF($E5="", "", $E5/(Controls!$B$2*Controls!$B$5)),"") | N5: =IF($B5="Flow",IF($E5="", "", $E5/(Controls!$B$2*Controls!$B$5*Controls!$B$6)),"") | O5: =IF($B5="Flow",IF($E5="", "", ($E5*$H5)/Controls!$B$4),"") | P5: =IF($B5="Flow",IF($E5="", "", ($E5*$H5)/Controls!$B$3),"") | Q5: =IF($B5="Flow",IF($E5="", "", ($E5*$H5)/Controls!$B$2),"") | R5: =IF($B5="Flow",IF($E5="", "", ($E5*$H5)/(Controls!$B$2*Controls!$B$5)),"") | S5: =IF($B5="Flow",IF($E5="", "", ($E5*$H5)/(Controls!$B$2*Controls!$B$5*Controls!$B$6)),"") | T5: 0.35 | U5: =IF(E5="", "", E5*T5/365)
A6: Maternal deaths (global) | B6: Flow | C6: World | D6: 2023 | E6: 260000 | F6: deaths | G6: https://www.who.int/news-room/fact-sheets/detail/maternal-mortality | H6: 0.6 | I6: Most maternal deaths are preventable (WHO). Scenario target = avoidable share by Year 30 (systems reform + education + governance). | J6: =IF($B6="Flow",IF($E6="", "", $E6/Controls!$B$4),"") | K6: =IF($B6="Flow",IF($E6="", "", $E6/Controls!$B$3),"") | L6: =IF($B6="Flow",IF($E6="", "", $E6/Controls!$B$2),"") | M6: =IF($B6="Flow",IF($E6="", "", $E6/(Controls!$B$2*Controls!$B$5)),"") | N6: =IF($B6="Flow",IF($E6="", "", $E6/(Controls!$B$2*Controls!$B$5*Controls!$B$6)),"") | O6: =IF($B6="Flow",IF($E6="", "", ($E6*$H6)/Controls!$B$4),"") | P6: =IF($B6="Flow",IF($E6="", "", ($E6*$H6)/Controls!$B$3),"") | Q6: =IF($B6="Flow",IF($E6="", "", ($E6*$H6)/Controls!$B$2),"") | R6: =IF($B6="Flow",IF($E6="", "", ($E6*$H6)/(Controls!$B$2*Controls!$B$5)),"") | S6: =IF($B6="Flow",IF($E6="", "", ($E6*$H6)/(Controls!$B$2*Controls!$B$5*Controls!$B$6)),"") | T6: 0.6 | U6: =IF(E6="", "", E6*T6/365)
A7: Induced abortions (global) | B7: Flow | C7: World | D7: 2019 | E7: 73000000 | F7: procedures | G7: https://www.guttmacher.org/fact-sheet/induced-abortion-worldwide | H7: 0.35 | I7: Avg per year (2015–2019); treat as indicative. Scenario target = avoidable share by Year 30 (systems reform + education + governance). | J7: =IF($B7="Flow",IF($E7="", "", $E7/Controls!$B$4),"") | K7: =IF($B7="Flow",IF($E7="", "", $E7/Controls!$B$3),"") | L7: =IF($B7="Flow",IF($E7="", "", $E7/Controls!$B$2),"") | M7: =IF($B7="Flow",IF($E7="", "", $E7/(Controls!$B$2*Controls!$B$5)),"") | N7: =IF($B7="Flow",IF($E7="", "", $E7/(Controls!$B$2*Controls!$B$5*Controls!$B$6)),"") | O7: =IF($B7="Flow",IF($E7="", "", ($E7*$H7)/Controls!$B$4),"") | P7: =IF($B7="Flow",IF($E7="", "", ($E7*$H7)/Controls!$B$3),"") | Q7: =IF($B7="Flow",IF($E7="", "", ($E7*$H7)/Controls!$B$2),"") | R7: =IF($B7="Flow",IF($E7="", "", ($E7*$H7)/(Controls!$B$2*Controls!$B$5)),"") | S7: =IF($B7="Flow",IF($E7="", "", ($E7*$H7)/(Controls!$B$2*Controls!$B$5*Controls!$B$6)),"") | T7: 0.35 | U7: =IF(E7="", "", E7*T7/365)
A8: Battle-related deaths (global) | B8: Flow | C8: World | D8: 2023 | E8: 129000 | F8: deaths | G8: https://www.prio.org/news/3616 | H8: 0.15 | I8: PRIO summary based on UCDP: ~129k battle-related deaths in 2023. Scenario target = avoidable share by Year 30 (systems reform + education + governance). | J8: =IF($B8="Flow",IF($E8="", "", $E8/Controls!$B$4),"") | K8: =IF($B8="Flow",IF($E8="", "", $E8/Controls!$B$3),"") | L8: =IF($B8="Flow",IF($E8="", "", $E8/Controls!$B$2),"") | M8: =IF($B8="Flow",IF($E8="", "", $E8/(Controls!$B$2*Controls!$B$5)),"") | N8: =IF($B8="Flow",IF($E8="", "", $E8/(Controls!$B$2*Controls!$B$5*Controls!$B$6)),"") | O8: =IF($B8="Flow",IF($E8="", "", ($E8*$H8)/Controls!$B$4),"") | P8: =IF($B8="Flow",IF($E8="", "", ($E8*$H8)/Controls!$B$3),"") | Q8: =IF($B8="Flow",IF($E8="", "", ($E8*$H8)/Controls!$B$2),"") | R8: =IF($B8="Flow",IF($E8="", "", ($E8*$H8)/(Controls!$B$2*Controls!$B$5)),"") | S8: =IF($B8="Flow",IF($E8="", "", ($E8*$H8)/(Controls!$B$2*Controls!$B$5*Controls!$B$6)),"") | T8: 0.15 | U8: =IF(E8="", "", E8*T8/365)
A9: Civilian deaths from targeted attacks (global) | B9: Flow | C9: World | D9: 2024 | E9: 13900 | F9: deaths | G9: https://www.uu.se/en/press/press-releases/2025/2025-06-11-ucdp-sharp-increase-in-conflicts-and-wars | H9: 0.2 | I9: UCDP: violence explicitly targeting civilians. Scenario target = avoidable share by Year 30 (systems reform + education + governance). | J9: =IF($B9="Flow",IF($E9="", "", $E9/Controls!$B$4),"") | K9: =IF($B9="Flow",IF($E9="", "", $E9/Controls!$B$3),"") | L9: =IF($B9="Flow",IF($E9="", "", $E9/Controls!$B$2),"") | M9: =IF($B9="Flow",IF($E9="", "", $E9/(Controls!$B$2*Controls!$B$5)),"") | N9: =IF($B9="Flow",IF($E9="", "", $E9/(Controls!$B$2*Controls!$B$5*Controls!$B$6)),"") | O9: =IF($B9="Flow",IF($E9="", "", ($E9*$H9)/Controls!$B$4),"") | P9: =IF($B9="Flow",IF($E9="", "", ($E9*$H9)/Controls!$B$3),"") | Q9: =IF($B9="Flow",IF($E9="", "", ($E9*$H9)/Controls!$B$2),"") | R9: =IF($B9="Flow",IF($E9="", "", ($E9*$H9)/(Controls!$B$2*Controls!$B$5)),"") | S9: =IF($B9="Flow",IF($E9="", "", ($E9*$H9)/(Controls!$B$2*Controls!$B$5*Controls!$B$6)),"") | T9: 0.2 | U9: =IF(E9="", "", E9*T9/365)
A10: People forcibly evicted (global) | B10: Flow | C10: World | D10: 2024 | E10: 2000000 | F10: people | G10: https://unhabitat.org/programme/housing-rights | H10: 0.3 | I10: UN-Habitat programme page cites 2M evicted yearly (context-dependent). Scenario target = avoidable share by Year 30 (systems reform + education + governance). | J10: =IF($B10="Flow",IF($E10="", "", $E10/Controls!$B$4),"") | K10: =IF($B10="Flow",IF($E10="", "", $E10/Controls!$B$3),"") | L10: =IF($B10="Flow",IF($E10="", "", $E10/Controls!$B$2),"") | M10: =IF($B10="Flow",IF($E10="", "", $E10/(Controls!$B$2*Controls!$B$5)),"") | N10: =IF($B10="Flow",IF($E10="", "", $E10/(Controls!$B$2*Controls!$B$5*Controls!$B$6)),"") | O10: =IF($B10="Flow",IF($E10="", "", ($E10*$H10)/Controls!$B$4),"") | P10: =IF($B10="Flow",IF($E10="", "", ($E10*$H10)/Controls!$B$3),"") | Q10: =IF($B10="Flow",IF($E10="", "", ($E10*$H10)/Controls!$B$2),"") | R10: =IF($B10="Flow",IF($E10="", "", ($E10*$H10)/(Controls!$B$2*Controls!$B$5)),"") | S10: =IF($B10="Flow",IF($E10="", "", ($E10*$H10)/(Controls!$B$2*Controls!$B$5*Controls!$B$6)),"") | T10: 0.3 | U10: =IF(E10="", "", E10*T10/365)
A11: Homeless people (global estimate) | B11: Stock | C11: World | D11: 2025 | E11: 318000000 | F11: people | G11: https://social.desa.un.org/world-summit-2025/blog/300million-people-homeless-worldwide | H11: 0.2 | I11: Stock: do NOT interpret per-minute as events; use as point-in-time estimate. Scenario target = avoidable share by Year 30 (systems reform + education + governance). | J11: =IF($B11="Flow",IF($E11="", "", $E11/Controls!$B$4),"") | K11: =IF($B11="Flow",IF($E11="", "", $E11/Controls!$B$3),"") | L11: =IF($B11="Flow",IF($E11="", "", $E11/Controls!$B$2),"") | M11: =IF($B11="Flow",IF($E11="", "", $E11/(Controls!$B$2*Controls!$B$5)),"") | N11: =IF($B11="Flow",IF($E11="", "", $E11/(Controls!$B$2*Controls!$B$5*Controls!$B$6)),"") | O11: =IF($B11="Flow",IF($E11="", "", ($E11*$H11)/Controls!$B$4),"") | P11: =IF($B11="Flow",IF($E11="", "", ($E11*$H11)/Controls!$B$3),"") | Q11: =IF($B11="Flow",IF($E11="", "", ($E11*$H11)/Controls!$B$2),"") | R11: =IF($B11="Flow",IF($E11="", "", ($E11*$H11)/(Controls!$B$2*Controls!$B$5)),"") | S11: =IF($B11="Flow",IF($E11="", "", ($E11*$H11)/(Controls!$B$2*Controls!$B$5*Controls!$B$6)),"") | T11: 0.2 | U11: =IF(E11="", "", E11*T11/365)
A12: People in extreme poverty (global, IPL $3/day) | B12: Stock | C12: World | D12: 2024 | F12: people | G12: https://ourworldindata.org/grapher/total-population-in-extreme-poverty | H12: 0.1 | I12: Stock: enter value for selected year; per-time rates disabled. Scenario target = avoidable share by Year 30 (systems reform + education + governance). | J12: =IF($B12="Flow",IF($E12="", "", $E12/Controls!$B$4),"") | K12: =IF($B12="Flow",IF($E12="", "", $E12/Controls!$B$3),"") | L12: =IF($B12="Flow",IF($E12="", "", $E12/Controls!$B$2),"") | M12: =IF($B12="Flow",IF($E12="", "", $E12/(Controls!$B$2*Controls!$B$5)),"") | N12: =IF($B12="Flow",IF($E12="", "", $E12/(Controls!$B$2*Controls!$B$5*Controls!$B$6)),"") | O12: =IF($B12="Flow",IF($E12="", "", ($E12*$H12)/Controls!$B$4),"") | P12: =IF($B12="Flow",IF($E12="", "", ($E12*$H12)/Controls!$B$3),"") | Q12: =IF($B12="Flow",IF($E12="", "", ($E12*$H12)/Controls!$B$2),"") | R12: =IF($B12="Flow",IF($E12="", "", ($E12*$H12)/(Controls!$B$2*Controls!$B$5)),"") | S12: =IF($B12="Flow",IF($E12="", "", ($E12*$H12)/(Controls!$B$2*Controls!$B$5*Controls!$B$6)),"") | T12: 0.1 | U12: =IF(E12="", "", E12*T12/365)
A13: Reported rape cases (input needed) | B13: Flow | C13: Varies | F13: cases | H13: 0.35 | I13: No single global annual count; definitions + reporting vary widely. Use a chosen dataset + scope. Scenario target = avoidable share by Year 30 (systems reform + education + governance). | J13: =IF($B13="Flow",IF($E13="", "", $E13/Controls!$B$4),"") | K13: =IF($B13="Flow",IF($E13="", "", $E13/Controls!$B$3),"") | L13: =IF($B13="Flow",IF($E13="", "", $E13/Controls!$B$2),"") | M13: =IF($B13="Flow",IF($E13="", "", $E13/(Controls!$B$2*Controls!$B$5)),"") | N13: =IF($B13="Flow",IF($E13="", "", $E13/(Controls!$B$2*Controls!$B$5*Controls!$B$6)),"") | O13: =IF($B13="Flow",IF($E13="", "", ($E13*$H13)/Controls!$B$4),"") | P13: =IF($B13="Flow",IF($E13="", "", ($E13*$H13)/Controls!$B$3),"") | Q13: =IF($B13="Flow",IF($E13="", "", ($E13*$H13)/Controls!$B$2),"") | R13: =IF($B13="Flow",IF($E13="", "", ($E13*$H13)/(Controls!$B$2*Controls!$B$5)),"") | S13: =IF($B13="Flow",IF($E13="", "", ($E13*$H13)/(Controls!$B$2*Controls!$B$5*Controls!$B$6)),"") | T13: 0.35 | U13: =IF(E13="", "", E13*T13/365)
A14: People experiencing sexual violence (lifetime, women 15+) | B14: Stock | C14: Global | D14: 2025 | E14: 263000000 | F14: people | G14: https://www.unwomen.org/en/articles/facts-and-figures/facts-and-figures-ending-violence-against-women | H14: 0.15 | I14: Prevalence stock; not an annual flow. Scenario target = avoidable share by Year 30 (systems reform + education + governance). | J14: =IF($B14="Flow",IF($E14="", "", $E14/Controls!$B$4),"") | K14: =IF($B14="Flow",IF($E14="", "", $E14/Controls!$B$3),"") | L14: =IF($B14="Flow",IF($E14="", "", $E14/Controls!$B$2),"") | M14: =IF($B14="Flow",IF($E14="", "", $E14/(Controls!$B$2*Controls!$B$5)),"") | N14: =IF($B14="Flow",IF($E14="", "", $E14/(Controls!$B$2*Controls!$B$5*Controls!$B$6)),"") | O14: =IF($B14="Flow",IF($E14="", "", ($E14*$H14)/Controls!$B$4),"") | P14: =IF($B14="Flow",IF($E14="", "", ($E14*$H14)/Controls!$B$3),"") | Q14: =IF($B14="Flow",IF($E14="", "", ($E14*$H14)/Controls!$B$2),"") | R14: =IF($B14="Flow",IF($E14="", "", ($E14*$H14)/(Controls!$B$2*Controls!$B$5)),"") | S14: =IF($B14="Flow",IF($E14="", "", ($E14*$H14)/(Controls!$B$2*Controls!$B$5*Controls!$B$6)),"") | T14: 0.15 | U14: =IF(E14="", "", E14*T14/365)
A15: Deaths due to aid cuts (scenario input) | B15: Flow | C15: World | D15: 2030 | F15: deaths | G15: https://www.washingtonpost.com/health/2026/02/02/foreign-aid-cuts-deaths-lancet/ | H15: 0.5 | I15: Example of policy-driven avoidable deaths; input your scenario estimate. Scenario target = avoidable share by Year 30 (systems reform + education + governance). | J15: =IF($B15="Flow",IF($E15="", "", $E15/Controls!$B$4),"") | K15: =IF($B15="Flow",IF($E15="", "", $E15/Controls!$B$3),"") | L15: =IF($B15="Flow",IF($E15="", "", $E15/Controls!$B$2),"") | M15: =IF($B15="Flow",IF($E15="", "", $E15/(Controls!$B$2*Controls!$B$5)),"") | N15: =IF($B15="Flow",IF($E15="", "", $E15/(Controls!$B$2*Controls!$B$5*Controls!$B$6)),"") | O15: =IF($B15="Flow",IF($E15="", "", ($E15*$H15)/Controls!$B$4),"") | P15: =IF($B15="Flow",IF($E15="", "", ($E15*$H15)/Controls!$B$3),"") | Q15: =IF($B15="Flow",IF($E15="", "", ($E15*$H15)/Controls!$B$2),"") | R15: =IF($B15="Flow",IF($E15="", "", ($E15*$H15)/(Controls!$B$2*Controls!$B$5)),"") | S15: =IF($B15="Flow",IF($E15="", "", ($E15*$H15)/(Controls!$B$2*Controls!$B$5*Controls!$B$6)),"") | T15: 0.5 | U15: =IF(E15="", "", E15*T15/365)

Sheet Controls
A1: Assumption | B1: Value
A2: Days_per_year | B2: 365
A3: Weeks_per_year | B3: 52
A4: Months_per_year | B4: 12
A5: Hours_per_day | B5: 24
A6: Minutes_per_hour | B6: 60
A7: Seconds_per_minute | B7: 60
A10: S-curve k | B10: 0.28
A11: S-curve midpoint (years) | B11: 15

Sheet Summary
A1: Scenario Summary (Flow metrics only)
A3: Set an 'Avoidable %' per row on Impact_Rates to estimate reform potential.
A5: Total annual (observed) | B5: Total annual (avoidable) | C5: Total per day (observed) | D5: Total per day (avoidable) | E5: Total per minute (avoidable)
A6: =SUMIF(Impact_Rates!$B:$B,"Flow",Impact_Rates!$E:$E) | B6: =SUMPRODUCT((Impact_Rates!$B$2:$B$200="Flow")*(Impact_Rates!$E$2:$E$200)*(Impact_Rates!$H$2:$H$200)) | C6: =SUMIF(Impact_Rates!$B:$B,"Flow",Impact_Rates!$L:$L) | D6: =SUMIF(Impact_Rates!$B:$B,"Flow",Impact_Rates!$Q:$Q) | E6: =SUMIF(Impact_Rates!$B:$B,"Flow",Impact_Rates!$S:$S)

Sheet Notes_Sources
A1: Suggested data pools (for adding metrics)
A2: Topic | B2: Typical metric type | C2: Good sources (URLs) | D2: Notes
A3: Global deaths / births | B3: Flow | C3: https://ourworldindata.org/births-and-deaths | D3: Annual totals; good for per-minute framing.
A4: Suicide | B4: Flow | C4: https://www.who.int/news-room/fact-sheets/detail/suicide | D4: Global estimate; trends vary by country.
A5: Homicide | B5: Flow | C5: https://www.unodc.org/documents/data-and-analysis/gsh/2023/GSH23_ExSum.pdf | D5: Intentional homicide; definitions matter.
A6: Road safety | B6: Flow | C6: https://www.who.int/publications/b/68866 | D6: Annual road deaths + policy levers.
A7: Maternal mortality | B7: Flow | C7: https://www.who.int/news-room/fact-sheets/detail/maternal-mortality | D7: Often framed as preventable.
A8: Conflict deaths | B8: Flow | C8: https://www.prio.org/news/3616; https://ourworldindata.org/war-and-peace | D8: Conflict varies wildly; distributions are spiky.
A9: Poverty (extreme) | B9: Stock | C9: https://www.worldbank.org/en/publication/poverty-prosperity-and-planet | D9: Stocks better shown as % and counts, not per-minute.
A10: Housing / homelessness | B10: Stock/Flow | C10: https://unhabitat.org/topic/housing | D10: Definitions vary; separate stocks vs flows (evictions).
A11: Violence against women | B11: Stock/Flow | C11: https://www.unwomen.org/en/articles/facts-and-figures/facts-and-figures-ending-violence-against-women | D11: Use prevalence + police-recorded flows.
A12: Education | B12: Stock/Flow | C12: https://data.unicef.org/topic/education/ | D12: Enrollment, out-of-school children, learning poverty.

Sheet 30Y_Trajectory
A1: Metric | B1: Year | C1: Adoption factor (S-curve) | D1: Avoidable % (S-curve) | E1: Avoidable per Day (S-curve)
A2: All-cause deaths (global) | B2: 1 | C2: =(1/(1+EXP(-Controls!$B$10*(B2-Controls!$B$11)))) | D2: =IFERROR(VLOOKUP(A2,Impact_Rates!$A:$T,20,FALSE)*((C2-(1/(1+EXP(-Controls!$B$10*(0-Controls!$B$11)))))/((1/(1+EXP(-Controls!$B$10*(30-Controls!$B$11))))-(1/(1+EXP(-Controls!$B$10*(0-Controls!$B$11))))))),"") | E2: =IFERROR(VLOOKUP(A2,Impact_Rates!$A:$T,5,FALSE)*D2/365,"")
A3: All-cause deaths (global) | B3: 2 | C3: =(1/(1+EXP(-Controls!$B$10*(B3-Controls!$B$11)))) | D3: =IFERROR(VLOOKUP(A3,Impact_Rates!$A:$T,20,FALSE)*((C3-(1/(1+EXP(-Controls!$B$10*(0-Controls!$B$11)))))/((1/(1+EXP(-Controls!$B$10*(30-Controls!$B$11))))-(1/(1+EXP(-Controls!$B$10*(0-Controls!$B$11))))))),"") | E3: =IFERROR(VLOOKUP(A3,Impact_Rates!$A:$T,5,FALSE)*D3/365,"")
A4: All-cause deaths (global) | B4: 3 | C4: =(1/(1+EXP(-Controls!$B$10*(B4-Controls!$B$11)))) | D4: =IFERROR(VLOOKUP(A4,Impact_Rates!$A:$T,20,FALSE)*((C4-(1/(1+EXP(-Controls!$B$10*(0-Controls!$B$11)))))/((1/(1+EXP(-Controls!$B$10*(30-Controls!$B$11))))-(1/(1+EXP(-Controls!$B$10*(0-Controls!$B$11))))))),"") | E4: =IFERROR(VLOOKUP(A4,Impact_Rates!$A:$T,5,FALSE)*D4/365,"")
A5: All-cause deaths (global) | B5: 4 | C5: =(1/(1+EXP(-Controls!$B$10*(B5-Controls!$B$11)))) | D5: =IFERROR(VLOOKUP(A5,Impact_Rates!$A:$T,20,FALSE)*((C5-(1/(1+EXP(-Controls!$B$10*(0-Controls!$B$11)))))/((1/(1+EXP(-Controls!$B$10*(30-Controls!$B$11))))-(1/(1+EXP(-Controls!$B$10*(0-Controls!$B$11))))))),"") | E5: =IFERROR(VLOOKUP(A5,Impact_Rates!$A:$T,5,FALSE)*D5/365,"")
A6: All-cause deaths (global) | B6: 5 | C6: =(1/(1+EXP(-Controls!$B$10*(B6-Controls!$B$11)))) | D6: =IFERROR(VLOOKUP(A6,Impact_Rates!$A:$T,20,FALSE)*((C6-(1/(1+EXP(-Controls!$B$10*(0-Controls!$B$11)))))/((1/(1+EXP(-Controls!$B$10*(30-Controls!$B$11))))-(1/(1+EXP(-Controls!$B$10*(0-Controls!$B$11))))))),"") | E6: =IFERROR(VLOOKUP(A6,Impact_Rates!$A:$T,5,FALSE)*D6/365,"")
A7: All-cause deaths (global) | B7: 6 | C7: =(1/(1+EXP(-Controls!$B$10*(B7-Controls!$B$11)))) | D7: =IFERROR(VLOOKUP(A7,Impact_Rates!$A:$T,20,FALSE)*((C7-(1/(1+EXP(-Controls!$B$10*(0-Controls!$B$11)))))/((1/(1+EXP(-Controls!$B$10*(30-Controls!$B$11))))-(1/(1+EXP(-Controls!$B$10*(0-Controls!$B$11))))))),"") | E7: =IFERROR(VLOOKUP(A7,Impact_Rates!$A:$T,5,FALSE)*D7/365,"")
A8: All-cause deaths (global) | B8: 7 | C8: =(1/(1+EXP(-Controls!$B$10*(B8-Controls!$B$11)))) | D8: =IFERROR(VLOOKUP(A8,Impact_Rates!$A:$T,20,FALSE)*((C8-(1/(1+EXP(-Controls!$B$10*(0-Controls!$B$11)))))/((1/(1+EXP(-Controls!$B$10*(30-Controls!$B$11))))-(1/(1+EXP(-Controls!$B$10*(0-Controls!$B$11))))))),"") | E8: =IFERROR(VLOOKUP(A8,Impact_Rates!$A:$T,5,FALSE)*D8/365,"")
A9: All-cause deaths (global) | B9: 8 | C9: =(1/(1+EXP(-Controls!$B$10*(B9-Controls!$B$11)))) | D9: =IFERROR(VLOOKUP(A9,Impact_Rates!$A:$T,20,FALSE)*((C9-(1/(1+EXP(-Controls!$B$10*(0-Controls!$B$11)))))/((1/(1+EXP(-Controls!$B$10*(30-Controls!$B$11))))-(1/(1+EXP(-Controls!$B$10*(0-Controls!$B$11))))))),"") | E9: =IFERROR(VLOOKUP(A9,Impact_Rates!$A:$T,5,FALSE)*D9/365,"")
A10: All-cause deaths (global) | B10: 9 | C10: =(1/(1+EXP(-Controls!$B$10*(B10-Controls!$B$11)))) | D10: =IFERROR(VLOOKUP(A10,Impact_Rates!$A:$T,20,FALSE)*((C10-(1/(1+EXP(-Controls!$B$10*(0-Controls!$B$11)))))/((1/(1+EXP(-Controls!$B$10*(30-Controls!$B$11))))-(1/(1+EXP(-Controls!$B$10*(0-Controls!$B$11))))))),"") | E10: =IFERROR(VLOOKUP(A10,Impact_Rates!$A:$T,5,FALSE)*D10/365,"")
A11: All-cause deaths (global) | B11: 10 | C11: =(1/(1+EXP(-Controls!$B$10*(B11-Controls!$B$11)))) | D11: =IFERROR(VLOOKUP(A11,Impact_Rates!$A:$T,20,FALSE)*((C11-(1/(1+EXP(-Controls!$B$10*(0-Controls!$B$11)))))/((1/(1+EXP(-Controls!$B$10*(30-Controls!$B$11))))-(1/(1+EXP(-Controls!$B$10*(0-Controls!$B$11))))))),"") | E11: =IFERROR(VLOOKUP(A11,Impact_Rates!$A:$T,5,FALSE)*D11/365,"")
A12: All-cause deaths (global) | B12: 11 | C12: =(1/(1+EXP(-Controls!$B$10*(B12-Controls!$B$11)))) | D12: =IFERROR(VLOOKUP(A12,Impact_Rates!$A:$T,20,FALSE)*((C12-(1/(1+EXP(-Controls!$B$10*(0-Controls!$B$11)))))/((1/(1+EXP(-Controls!$B$10*(30-Controls!$B$11))))-(1/(1+EXP(-Controls!$B$10*(0-Controls!$B$11))))))),"") | E12: =IFERROR(VLOOKUP(A12,Impact_Rates!$A:$T,5,FALSE)*D12/365,"")
A13: All-cause deaths (global) | B13: 12 | C13: =(1/(1+EXP(-Controls!$B$10*(B13-Controls!$B$11)))) | D13: =IFERROR(VLOOKUP(A13,Impact_Rates!$A:$T,20,FALSE)*((C13-(1/(1+EXP(-Controls!$B$10*(0-Controls!$B$11)))))/((1/(1+EXP(-Controls!$B$10*(30-Controls!$B$11))))-(1/(1+EXP(-Controls!$B$10*(0-Controls!$B$11))))))),"") | E13: =IFERROR(VLOOKUP(A13,Impact_Rates!$A:$T,5,FALSE)*D13/365,"")
... A421: Deaths due to aid cuts (scenario input) | B421: 30 | C421: =(1/(1+EXP(-Controls!$B$10*(B421-Controls!$B$11)))) | D421: =IFERROR(VLOOKUP(A421,Impact_Rates!$A:$T,20,FALSE)*((C421-(1/(1+EXP(-Controls!$B$10*(0-Controls!$B$11)))))/((1/(1+EXP(-Controls!$B$10*(30-Controls!$B$11))))-(1/(1+EXP(-Controls!$B$10*(0-Controls!$B$11))))))),"") | E421: =IFERROR(VLOOKUP(A421,Impact_Rates!$A:$T,5,FALSE)*D421/365,"")
